BEGIN:VCALENDAR
VERSION:2.0
PRODID:-//Squarespace Inc/Squarespace 6//v6//EN
BEGIN:VEVENT
UID:5e50d39eab5cfe1448d1dc8c@squarespace.com
DTSTAMP:20200222T071028Z
DTSTART:20200725T200000Z
DTEND:20200725T210000Z
SUMMARY:Mental @ Weinfest Serrig 
END:VEVENT
END:VCALENDAR
