BEGIN:VCALENDAR
VERSION:2.0
PRODID:-//Squarespace Inc/Squarespace 6//v6//EN
BEGIN:VEVENT
UID:5e50d33ab9df9733ccd94480@squarespace.com
DTSTAMP:20200222T070853Z
DTSTART:20200430T200000Z
DTEND:20200430T230000Z
SUMMARY:Mental @ Duerfkessel Koerich
END:VEVENT
END:VCALENDAR
