BEGIN:VCALENDAR
VERSION:2.0
PRODID:-//Squarespace Inc/Squarespace 6//v6//EN
BEGIN:VEVENT
UID:5ced2ed8b208fc5686d42da7@squarespace.com
DTSTAMP:20190528T125427Z
DTSTART:20190809T160000Z
DTEND:20190809T215900Z
SUMMARY:Deifferdeng Live 2019
END:VEVENT
END:VCALENDAR
