BEGIN:VCALENDAR
VERSION:2.0
PRODID:-//Squarespace Inc/Squarespace 6//v6//EN
BEGIN:VEVENT
UID:5ced2e6b4785d363fe258e88@squarespace.com
DTSTAMP:20190528T125117Z
DTSTART:20190706T170000Z
DTEND:20190706T230000Z
SUMMARY:Rock um Bur
END:VEVENT
END:VCALENDAR
