BEGIN:VCALENDAR
VERSION:2.0
PRODID:-//Squarespace Inc/Squarespace 6//v6//EN
BEGIN:VEVENT
UID:5cc682d4eb393176e673f356@squarespace.com
DTSTAMP:20190429T045241Z
DTSTART:20190608T050000Z
DTEND:20190609T060000Z
SUMMARY:Mentalcoverband @ Private event
END:VEVENT
END:VCALENDAR
