BEGIN:VCALENDAR
VERSION:2.0
PRODID:-//Squarespace Inc/Squarespace 6//v6//EN
BEGIN:VEVENT
UID:5cc6828f971a181ca10520ef@squarespace.com
DTSTAMP:20190528T125756Z
DTSTART:20190622T050000Z
DTEND:20190623T060000Z
SUMMARY:Mentalcoverband @ Virowend Nationalfeierdaag Bissen
END:VEVENT
END:VCALENDAR
