BEGIN:VCALENDAR
VERSION:2.0
PRODID:-//Squarespace Inc/Squarespace 6//v6//EN
BEGIN:VEVENT
UID:5cc68214fa0d6052bc733e59@squarespace.com
DTSTAMP:20190429T045012Z
DTSTART:20190430T073000Z
DTEND:20190501T093000Z
SUMMARY:Mentalcoverband @ Duerfkessel Koerich
END:VEVENT
END:VCALENDAR
