BEGIN:VCALENDAR
VERSION:2.0
PRODID:-//Squarespace Inc/Squarespace 6//v6//EN
BEGIN:VEVENT
UID:5c644dbc0d9297a652113a94@squarespace.com
DTSTAMP:20190213T170425Z
DTSTART:20190322T203000Z
DTEND:20190323T000000Z
SUMMARY:Mental @ Schräinerei Differdange
END:VEVENT
END:VCALENDAR
