BEGIN:VCALENDAR
VERSION:2.0
PRODID:-//Squarespace Inc/Squarespace 6//v6//EN
BEGIN:VEVENT
UID:5d931fd5a9f00c1ec8d1dbec@squarespace.com
DTSTAMP:20191001T094753Z
DTSTART:20191108T210000Z
DTEND:20191109T000000Z
SUMMARY:Mental @Duerfkessel Koerich
END:VEVENT
END:VCALENDAR
