BEGIN:VCALENDAR
VERSION:2.0
PRODID:-//Squarespace Inc/Squarespace 6//v6//EN
BEGIN:VEVENT
UID:5abdf0bbaa4a99218a41c945@squarespace.com
DTSTAMP:20180330T081205Z
DTSTART:20180622T211500Z
DTEND:20180623T001500Z
SUMMARY:Mental @ Virowend Nationalfeierdaag Kayl
END:VEVENT
END:VCALENDAR
