BEGIN:VCALENDAR
VERSION:2.0
PRODID:-//Squarespace Inc/Squarespace 6//v6//EN
BEGIN:VEVENT
UID:5abdefde03ce641da3b97aef@squarespace.com
DTSTAMP:20180511T163835Z
DTSTART:20180602T180000Z
DTEND:20180602T223000Z
SUMMARY:Mental @ Rock um Bur-Bettange sur Mess
END:VEVENT
END:VCALENDAR
