BEGIN:VCALENDAR
VERSION:2.0
PRODID:-//Squarespace Inc/Squarespace 6//v6//EN
BEGIN:VEVENT
UID:5abdef1188251b75e577be6e@squarespace.com
DTSTAMP:20180330T080506Z
DTSTART:20180504T193000Z
DTEND:20180504T223000Z
SUMMARY:Mental @ Weinfest Schweich (D)
END:VEVENT
END:VCALENDAR
