BEGIN:VCALENDAR
VERSION:2.0
PRODID:-//Squarespace Inc/Squarespace 6//v6//EN
BEGIN:VEVENT
UID:5a65c1e4e2c4834cb748a828@squarespace.com
DTSTAMP:20180330T081512Z
DTSTART:20180430T200000Z
DTEND:20180430T230000Z
SUMMARY:Mental @ Duerfkessel Koerich
END:VEVENT
END:VCALENDAR
