BEGIN:VCALENDAR
VERSION:2.0
PRODID:-//Squarespace Inc/Squarespace 6//v6//EN
BEGIN:VEVENT
UID:5a65c23c9140b7b61f6d2aa1@squarespace.com
DTSTAMP:20180330T081418Z
DTSTART:20180420T200000Z
DTEND:20180420T230000Z
SUMMARY:Mental @ Scheier  10th anniversary
END:VEVENT
END:VCALENDAR
