BEGIN:VCALENDAR
VERSION:2.0
PRODID:-//Squarespace Inc/Squarespace 6//v6//EN
BEGIN:VEVENT
UID:5bb1b3fcf9619a0dbd0406d8@squarespace.com
DTSTAMP:20181001T054345Z
DTSTART:20181221T070000Z
DTEND:20181221T080000Z
SUMMARY:Mentalcoverband @ Private event
END:VEVENT
END:VCALENDAR
