BEGIN:VCALENDAR
VERSION:2.0
PRODID:-//Squarespace Inc/Squarespace 6//v6//EN
BEGIN:VEVENT
UID:5bb1b3e34192022ca7cb9e83@squarespace.com
DTSTAMP:20181001T054316Z
DTSTART:20181201T070000Z
DTEND:20181201T080000Z
SUMMARY:Mentalcoverband @ Private event
END:VEVENT
END:VCALENDAR
