BEGIN:VCALENDAR
VERSION:2.0
PRODID:-//Squarespace Inc/Squarespace 6//v6//EN
BEGIN:VEVENT
UID:5bb1b302eef1a191b65f6970@squarespace.com
DTSTAMP:20181001T054556Z
DTSTART:20181109T210000Z
DTEND:20181110T000000Z
SUMMARY:Mentalcoverband @ Duerfkessel Koerich
END:VEVENT
END:VCALENDAR
