BEGIN:VCALENDAR
VERSION:2.0
PRODID:-//Squarespace Inc/Squarespace 6//v6//EN
BEGIN:VEVENT
UID:5bb1b2947817f7aed68e9dff@squarespace.com
DTSTAMP:20181001T053905Z
DTSTART:20181020T120000Z
DTEND:20181020T130000Z
SUMMARY:Mentalcoverband @ Private event
END:VEVENT
END:VCALENDAR
