BEGIN:VCALENDAR
VERSION:2.0
PRODID:-//Squarespace Inc/Squarespace 6//v6//EN
BEGIN:VEVENT
UID:5a30e76a24a694311d466e65@squarespace.com
DTSTAMP:20171213T084221Z
DTSTART:20180127T213000Z
DTEND:20180128T003000Z
SUMMARY:Mental @ Penalty/Centre loisirs Lamadelaine
END:VEVENT
END:VCALENDAR
