BEGIN:VCALENDAR
VERSION:2.0
PRODID:-//Squarespace Inc/Squarespace 6//v6//EN
BEGIN:VEVENT
UID:59e457e26f4ca347ca75600d@squarespace.com
DTSTAMP:20171226T083637Z
DTSTART:20180118T183000Z
DTEND:20180120T223000Z
SUMMARY:MENTAL UNPLUGGED @ AALT STADHAUS DIFFERDANGE
END:VEVENT
END:VCALENDAR
