BEGIN:VCALENDAR
VERSION:2.0
PRODID:-//Squarespace Inc/Squarespace 6//v6//EN
BEGIN:VEVENT
UID:58dbf7d5be6594ad914cc7d9@squarespace.com
DTSTAMP:20170329T180750Z
DTSTART:20170805T183000Z
DTEND:20170805T193000Z
SUMMARY:Mental @ PRIVAT EVENT
END:VEVENT
END:VCALENDAR
