BEGIN:VCALENDAR
VERSION:2.0
PRODID:-//Squarespace Inc/Squarespace 6//v6//EN
BEGIN:VEVENT
UID:5965de482e69cff6d94fe306@squarespace.com
DTSTAMP:20170712T083535Z
DTSTART:20170804T160000Z
DTEND:20170804T215900Z
SUMMARY:Mental @ Differdange Place du marché/Support IRINA
END:VEVENT
END:VCALENDAR
