BEGIN:VCALENDAR
VERSION:2.0
PRODID:-//Squarespace Inc/Squarespace 6//v6//EN
BEGIN:VEVENT
UID:58dbf72f6b8f5bc401f729aa@squarespace.com
DTSTAMP:20170726T154531Z
DTSTART:20170728T193000Z
DTEND:20170728T223000Z
SUMMARY:Mental @ Serrig Weinfest
END:VEVENT
END:VCALENDAR
