BEGIN:VCALENDAR
VERSION:2.0
PRODID:-//Squarespace Inc/Squarespace 6//v6//EN
BEGIN:VEVENT
UID:58dbf5142994ca7505dc802a@squarespace.com
DTSTAMP:20170329T180409Z
DTSTART:20170701T180000Z
DTEND:20170701T230000Z
SUMMARY:Mental @ Heichuewenfest Belval
END:VEVENT
END:VCALENDAR
