BEGIN:VCALENDAR
VERSION:2.0
PRODID:-//Squarespace Inc/Squarespace 6//v6//EN
BEGIN:VEVENT
UID:58dbf8b0ebbd1a38a5591807@squarespace.com
DTSTAMP:20170329T181139Z
DTSTART:20170622T183000Z
DTEND:20170622T193000Z
SUMMARY:Mental @ Firowend Nationalfeierdaag Differdange
END:VEVENT
END:VCALENDAR
