BEGIN:VCALENDAR
VERSION:2.0
PRODID:-//Squarespace Inc/Squarespace 6//v6//EN
BEGIN:VEVENT
UID:587e50e8d482e9eee8ce4a3f@squarespace.com
DTSTAMP:20170117T171552Z
DTSTART:20170318T210000Z
DTEND:20170319T000000Z
SUMMARY:Mental & Jeans Generation KULTURSCHAPP EHLERANGE
END:VEVENT
END:VCALENDAR
