BEGIN:VCALENDAR
VERSION:2.0
PRODID:-//Squarespace Inc/Squarespace 6//v6//EN
BEGIN:VEVENT
UID:59e455e1914e6b0711a34aa4@squarespace.com
DTSTAMP:20171016T064815Z
DTSTART:20171208T080000Z
DTEND:20171208T090000Z
SUMMARY:MENTAL @ PRIVATE EVENT
END:VEVENT
END:VCALENDAR
