BEGIN:VCALENDAR
VERSION:2.0
PRODID:-//Squarespace Inc/Squarespace 6//v6//EN
BEGIN:VEVENT
UID:59e4563b64b05fe9e6c1e8c4@squarespace.com
DTSTAMP:20171016T064859Z
DTSTART:20171215T080000Z
DTEND:20171215T090000Z
SUMMARY:MENTAL @ PRIVATE EVENT
END:VEVENT
END:VCALENDAR
