BEGIN:VCALENDAR
VERSION:2.0
PRODID:-//Squarespace Inc/Squarespace 6//v6//EN
BEGIN:VEVENT
UID:5965e329ff7c50ce21f97c51@squarespace.com
DTSTAMP:20171016T070709Z
DTSTART:20171109T200000Z
DTEND:20171109T220000Z
SUMMARY:Mental @ Schräinerei Differdange
END:VEVENT
END:VCALENDAR
