BEGIN:VCALENDAR
VERSION:2.0
PRODID:-//Squarespace Inc/Squarespace 6//v6//EN
BEGIN:VEVENT
UID:587e4dcea5790a852ba1665c@squarespace.com
DTSTAMP:20170117T170944Z
DTSTART:20170128T213000Z
DTEND:20170129T000000Z
SUMMARY:Mental @ Penalty Centre de Loisirs Lamadelaine
END:VEVENT
END:VCALENDAR
