BEGIN:VCALENDAR
VERSION:2.0
PRODID:-//Squarespace Inc/Squarespace 6//v6//EN
BEGIN:VEVENT
UID:579da972b3db2bfbd64970e2@squarespace.com
DTSTAMP:20161130T120647Z
DTSTART:20170120T190000Z
DTEND:20170120T220000Z
SUMMARY:Mental Coverband & HME @ Casino 2000 Mondorf
END:VEVENT
END:VCALENDAR
