BEGIN:VCALENDAR
VERSION:2.0
PRODID:-//Squarespace Inc/Squarespace 6//v6//EN
BEGIN:VEVENT
UID:575d808df85082a729cebe0b@squarespace.com
DTSTAMP:20160731T073634Z
DTSTART:20160826T180000Z
DTEND:20160826T200000Z
SUMMARY:Mentalcoverband @ Differdange Live
END:VEVENT
END:VCALENDAR
