BEGIN:VCALENDAR
VERSION:2.0
PRODID:-//Squarespace Inc/Squarespace 6//v6//EN
BEGIN:VEVENT
UID:57321f4f1d07c0bec3e2a8aa@squarespace.com
DTSTAMP:20160510T175242Z
DTSTART:20160717T171500Z
DTEND:20160717T181500Z
SUMMARY:Mentalcoverband @ Mondorf 
END:VEVENT
END:VCALENDAR
