BEGIN:VCALENDAR
VERSION:2.0
PRODID:-//Squarespace Inc/Squarespace 6//v6//EN
BEGIN:VEVENT
UID:57321ec92eeb81368d62f2a0@squarespace.com
DTSTAMP:20160510T174953Z
DTSTART:20160622T200000Z
DTEND:20160623T110000Z
SUMMARY:Mentalcoverband @ Firowend Nationalfeierdaag Differdange
END:VEVENT
END:VCALENDAR
