BEGIN:VCALENDAR
VERSION:2.0
PRODID:-//Squarespace Inc/Squarespace 6//v6//EN
BEGIN:VEVENT
UID:56562591e4b05079e49b7dbf@squarespace.com
DTSTAMP:20160304T124017Z
DTSTART:20160505T200000Z
DTEND:20160505T200100Z
SUMMARY:Mental Coverband with a Tribute to Adele @ Festival saveurs et lége
 ndes Casino 2000 Mondorf
END:VEVENT
END:VCALENDAR
