BEGIN:VCALENDAR
VERSION:2.0
PRODID:-//Squarespace Inc/Squarespace 6//v6//EN
BEGIN:VEVENT
UID:5656264ae4b01110e1bbbb81@squarespace.com
DTSTAMP:20160212T162908Z
DTSTART:20160520T190000Z
DTEND:20160520T214500Z
SUMMARY:Mentalcoverband @ Marche de l´armée Diekirch
END:VEVENT
END:VCALENDAR
