BEGIN:VCALENDAR
VERSION:2.0
PRODID:-//Squarespace Inc/Squarespace 6//v6//EN
BEGIN:VEVENT
UID:56be05e5859fd0e5ed8d6a84@squarespace.com
DTSTAMP:20160212T162554Z
DTSTART:20160430T200000Z
DTEND:20160430T210000Z
SUMMARY:Mental @ Big Ben Dudelange
END:VEVENT
END:VCALENDAR
