BEGIN:VCALENDAR
VERSION:2.0
PRODID:-//Squarespace Inc/Squarespace 6//v6//EN
BEGIN:VEVENT
UID:56562501e4b02fbb0a2a9cec@squarespace.com
DTSTAMP:20160212T162626Z
DTSTART:20160304T200000Z
DTEND:20160304T220000Z
SUMMARY:Mental Coverband @ Scheier Aspelt
END:VEVENT
END:VCALENDAR
