BEGIN:VCALENDAR
VERSION:2.0
PRODID:-//Squarespace Inc/Squarespace 6//v6//EN
BEGIN:VEVENT
UID:579da8f6197aea7c6b841e63@squarespace.com
DTSTAMP:20160731T073134Z
DTSTART:20161110T080000Z
DTEND:20161110T100000Z
SUMMARY:Mental Coverband @ Schräinerei Differdange
END:VEVENT
END:VCALENDAR
