BEGIN:VCALENDAR
VERSION:2.0
PRODID:-//Squarespace Inc/Squarespace 6//v6//EN
BEGIN:VEVENT
UID:575d7d772eeb81ff5b67c77f@squarespace.com
DTSTAMP:20160612T152829Z
DTSTART:20161015T200000Z
DTEND:20161016T100000Z
SUMMARY:Mentalcoverband @ Le Mazzo Bettborn Preitzerdall
END:VEVENT
END:VCALENDAR
