BEGIN:VCALENDAR
VERSION:2.0
PRODID:-//Squarespace Inc/Squarespace 6//v6//EN
BEGIN:VEVENT
UID:5630a6b9e4b0d095d8e7557b@squarespace.com
DTSTAMP:20151112T185537Z
DTSTART:20160109T190000Z
DTEND:20160109T220000Z
SUMMARY:Live in concert Mentalcoverband meets Harmonie Municipale d'Esch
END:VEVENT
END:VCALENDAR
