BEGIN:VCALENDAR
VERSION:2.0
PRODID:-//Squarespace Inc/Squarespace 6//v6//EN
BEGIN:VEVENT
UID:56977734a128e6608ecf4be6@squarespace.com
DTSTAMP:20160114T102518Z
DTSTART:20160130T090000Z
DTEND:20160131T020000Z
SUMMARY:31.Penalty Event @ Centre Loisir Lamadelaine
END:VEVENT
END:VCALENDAR
