BEGIN:VCALENDAR
VERSION:2.0
PRODID:-//Squarespace Inc/Squarespace 6//v6//EN
BEGIN:VEVENT
UID:569777b02399a3bb2ba80006@squarespace.com
DTSTAMP:20160114T102754Z
DTSTART:20160115T103000Z
DTEND:20160115T113000Z
SUMMARY:Mentalcoverband @ Private Event
END:VEVENT
END:VCALENDAR
