BEGIN:VCALENDAR
VERSION:2.0
PRODID:-//Squarespace Inc/Squarespace 6//v6//EN
BEGIN:VEVENT
UID:5547a958e4b03724d7179adb@squarespace.com
DTSTAMP:20150527T180743Z
DTSTART:20150530T173000Z
DTEND:20150530T193000Z
SUMMARY:Mental@ Multikulti Differdange
END:VEVENT
END:VCALENDAR
