BEGIN:VCALENDAR
VERSION:2.0
PRODID:-//Squarespace Inc/Squarespace 6//v6//EN
BEGIN:VEVENT
UID:553f7417e4b0b93051b90ec5@squarespace.com
DTSTAMP:20150428T122233Z
DTSTART:20150523T193000Z
DTEND:20150523T204000Z
SUMMARY:Remelfingen (Fr)
END:VEVENT
END:VCALENDAR
