BEGIN:VCALENDAR
VERSION:2.0
PRODID:-//Squarespace Inc/Squarespace 6//v6//EN
BEGIN:VEVENT
UID:553f766de4b0322e4cd089dd@squarespace.com
DTSTAMP:20150620T094002Z
DTSTART:20150622T180000Z
DTEND:20150622T210000Z
SUMMARY:Scheierhaff Zolwer
END:VEVENT
END:VCALENDAR
