BEGIN:VCALENDAR
VERSION:2.0
PRODID:-//Squarespace Inc/Squarespace 6//v6//EN
BEGIN:VEVENT
UID:55413bcae4b08936753be19f@squarespace.com
DTSTAMP:20151028T104203Z
DTSTART:20151128T190000Z
DTEND:20151128T220000Z
SUMMARY:Escher Theater Rock/Pop meets Classic
END:VEVENT
END:VCALENDAR
