BEGIN:VCALENDAR
VERSION:2.0
PRODID:-//Squarespace Inc/Squarespace 6//v6//EN
BEGIN:VEVENT
UID:553f78d7e4b0e208629338dc@squarespace.com
DTSTAMP:20151028T104250Z
DTSTART:20151127T190000Z
DTEND:20151127T220000Z
SUMMARY:Escher Theater Rock/Pop meets Classic
END:VEVENT
END:VCALENDAR
