BEGIN:VCALENDAR
VERSION:2.0
PRODID:-//Squarespace Inc/Squarespace 6//v6//EN
BEGIN:VEVENT
UID:55b63c5ce4b0b4cd5d2d597e@squarespace.com
DTSTAMP:20150727T141835Z
DTSTART:20151022T190000Z
DTEND:20151022T210000Z
SUMMARY:Mental @Schräinerei
GEO:49.521595;5.899877
LOCATION:115a Rue Emile Mark\, Differdange\, Luxembourg\, 4620\, Luxembourg
END:VEVENT
END:VCALENDAR
